BEGIN:VCALENDAR
VERSION:2.0
PRODID:-//demosphere.net//NONSGML kigkonsult.se iCalcreator 2.22.1//
METHOD:REQUEST
X-WR-TIMEZONE:Europe/Paris
BEGIN:VEVENT
UID:https://safe.gironde.demosphere.net/rv/9433
DTSTAMP:20181215T123000Z
DESCRIPTION:plus d'infos sur : https://safe.gironde.demosphere.net/rv/9433
DTSTART:20181215T123000Z
DTEND:20181215T133000Z
LOCATION:Bègles\, \nLe Radis Noir \n37 bis rue Pauly \n33130 Bègles
SUMMARY:Repair café Bègles - On répare (presque) tout pour vous...
URL:https://safe.gironde.demosphere.net/rv/9433
END:VEVENT
END:VCALENDAR
