BEGIN:VCALENDAR
VERSION:2.0
PRODID:-//demosphere.net//NONSGML kigkonsult.se iCalcreator 2.22.1//
METHOD:REQUEST
X-WR-TIMEZONE:Europe/Paris
BEGIN:VEVENT
UID:https://safe.gironde.demosphere.net/rv/9311
DTSTAMP:20181122T083000Z
DESCRIPTION:plus d'infos sur : https://safe.gironde.demosphere.net/rv/9311
DTSTART:20181122T083000Z
DTEND:20181122T093000Z
LOCATION:Bordeaux\, \nHalle des Douves à Bordeaux \nrue des Douves à côté d
 es Capu
SUMMARY:Découvrez la monnaie libre - Logiciels Ǧ1
URL:https://safe.gironde.demosphere.net/rv/9311
END:VEVENT
END:VCALENDAR
