BEGIN:VCALENDAR
VERSION:2.0
PRODID:-//demosphere.net//NONSGML kigkonsult.se iCalcreator 2.22.1//
METHOD:REQUEST
X-WR-TIMEZONE:Europe/Paris
BEGIN:VEVENT
UID:https://safe.gironde.demosphere.net/rv/8564
DTSTAMP:20180322T190000Z
DESCRIPTION:plus d'infos sur : https://safe.gironde.demosphere.net/rv/8564
DTSTART:20180322T190000Z
DTEND:20180322T200000Z
LOCATION:Libourne\, \nGrand Écran de Libourne \n56 avenue Galliéni \n33500 
 Libourne
SUMMARY:Projection/Echanges - Trait de Vie
URL:https://safe.gironde.demosphere.net/rv/8564
END:VEVENT
END:VCALENDAR
