BEGIN:VCALENDAR
VERSION:2.0
PRODID:-//demosphere.net//NONSGML kigkonsult.se iCalcreator 2.22.1//
METHOD:REQUEST
X-WR-TIMEZONE:Europe/Paris
BEGIN:VEVENT
UID:https://safe.gironde.demosphere.net/rv/6976
DTSTAMP:20170105T190000Z
DESCRIPTION:plus d'infos sur : https://safe.gironde.demosphere.net/rv/6976
DTSTART:20170105T190000Z
DTEND:20170105T200000Z
LOCATION:Libourne\, \nGrand Écran de Libourne \n56 avenue Galliéni \n33500 
 Libourne
SUMMARY:Projection/Débat - 'Qu'est ce qu'on attend ?' de Marie Monique Robi
 n
URL:https://safe.gironde.demosphere.net/rv/6976
END:VEVENT
END:VCALENDAR
