BEGIN:VCALENDAR
VERSION:2.0
PRODID:-//demosphere.net//NONSGML kigkonsult.se iCalcreator 2.22.1//
METHOD:REQUEST
X-WR-TIMEZONE:Europe/Paris
BEGIN:VEVENT
UID:https://safe.gironde.demosphere.net/rv/5785
DTSTAMP:20160312T133000Z
DESCRIPTION:plus d'infos sur : https://safe.gironde.demosphere.net/rv/5785
DTSTART:20160312T133000Z
DTEND:20160312T143000Z
LOCATION:Bordeaux\, \nMiroir d'eau \n33000 Bordeaux
SUMMARY:Manifestation avant la catastrophe nucléaire en Gironde
URL:https://safe.gironde.demosphere.net/rv/5785
END:VEVENT
END:VCALENDAR
