BEGIN:VCALENDAR
VERSION:2.0
PRODID:-//demosphere.net//NONSGML kigkonsult.se iCalcreator 2.22.1//
METHOD:REQUEST
X-WR-TIMEZONE:Europe/Paris
BEGIN:VEVENT
UID:https://safe.gironde.demosphere.net/rv/5534
DTSTAMP:20160227T140000Z
DESCRIPTION:plus d'infos sur : https://safe.gironde.demosphere.net/rv/5534
DTSTART:20160227T140000Z
DTEND:20160227T150000Z
LOCATION:Pessac\, \nOrangerie Parc de Cazalet \n30 Avenue Pierre Castaing 
 \n33600 Pessac
SUMMARY:Fête de soutien à la calandreta de la dauna et bal trad
URL:https://safe.gironde.demosphere.net/rv/5534
END:VEVENT
END:VCALENDAR
