BEGIN:VCALENDAR
VERSION:2.0
PRODID:-//demosphere.net//NONSGML kigkonsult.se iCalcreator 2.22.1//
METHOD:REQUEST
X-WR-TIMEZONE:Europe/Paris
BEGIN:VEVENT
UID:https://safe.gironde.demosphere.net/rv/5188
DTSTAMP:20151128T100000Z
DESCRIPTION:plus d'infos sur : https://safe.gironde.demosphere.net/rv/5188
DTSTART:20151128T100000Z
DTEND:20151128T110000Z
LOCATION:Bordeaux\, \nMiroir d'eau \n33000 Bordeaux
SUMMARY:Contre Cop21 - Pour un climat sans nucléaire
URL:https://safe.gironde.demosphere.net/rv/5188
END:VEVENT
END:VCALENDAR
