BEGIN:VCALENDAR
VERSION:2.0
PRODID:-//demosphere.net//NONSGML kigkonsult.se iCalcreator 2.22.1//
METHOD:REQUEST
X-WR-TIMEZONE:Europe/Paris
BEGIN:VEVENT
UID:https://safe.gironde.demosphere.net/rv/1906
DTSTAMP:20121105T200000Z
DESCRIPTION:plus d'infos sur : https://safe.gironde.demosphere.net/rv/1906
DTSTART:20121105T200000Z
DTEND:20121105T210000Z
LOCATION:Bordeaux\, \nCinéma Utopia \n5 Place Camille Jullian \n33000 Borde
 aux
SUMMARY:Concert - Projection : El Comunero + 'Eva la rouge'
URL:https://safe.gironde.demosphere.net/rv/1906
END:VEVENT
END:VCALENDAR
