BEGIN:VCALENDAR
VERSION:2.0
PRODID:-//demosphere.net//NONSGML kigkonsult.se iCalcreator 2.22.1//
METHOD:REQUEST
X-WR-TIMEZONE:Europe/Paris
BEGIN:VEVENT
UID:https://safe.gironde.demosphere.net/rv/16650
DTSTAMP:20260829T150000Z
DESCRIPTION:plus d'infos sur : https://safe.gironde.demosphere.net/rv/16650
DTSTART:20260829T150000Z
DTEND:20260829T160000Z
LOCATION:Le Tourne\, \nChantiers Tramasset \n20 Esplanade Josselin \n33550 
 Le Tourne
SUMMARY:Rdv de l’Étuve – Bar associatif et concert Afro Jazz Groove
URL:https://safe.gironde.demosphere.net/rv/16650
END:VEVENT
END:VCALENDAR
