BEGIN:VCALENDAR
VERSION:2.0
PRODID:-//demosphere.net//NONSGML kigkonsult.se iCalcreator 2.22.1//
METHOD:REQUEST
X-WR-TIMEZONE:Europe/Paris
BEGIN:VEVENT
UID:https://safe.gironde.demosphere.net/rv/16605
DTSTAMP:20260430T163000Z
DESCRIPTION:plus d'infos sur : https://safe.gironde.demosphere.net/rv/16605
DTSTART:20260430T163000Z
DTEND:20260430T173000Z
LOCATION:Bègles\, \nAquaforum \nRue de Bègles \n33130 Bègles \nFrance
SUMMARY:Mobilisation 'Bienvenue' Documentaire/Débat : Déplacés climatiques
URL:https://safe.gironde.demosphere.net/rv/16605
END:VEVENT
END:VCALENDAR
