BEGIN:VCALENDAR
VERSION:2.0
PRODID:-//demosphere.net//NONSGML kigkonsult.se iCalcreator 2.22.1//
METHOD:REQUEST
X-WR-TIMEZONE:Europe/Paris
BEGIN:VEVENT
UID:https://safe.gironde.demosphere.net/rv/16603
DTSTAMP:20260409T181500Z
DESCRIPTION:plus d'infos sur : https://safe.gironde.demosphere.net/rv/16603
DTSTART:20260409T181500Z
DTEND:20260409T191500Z
LOCATION:Bordeaux\, \nCinéma Utopia \n5 Place Camille Jullian \n33000 Borde
 aux
SUMMARY:Projection/Débat - 'Disunited Nations Proche-Orient
URL:https://safe.gironde.demosphere.net/rv/16603
END:VEVENT
END:VCALENDAR
