BEGIN:VCALENDAR
VERSION:2.0
PRODID:-//demosphere.net//NONSGML kigkonsult.se iCalcreator 2.22.1//
METHOD:REQUEST
X-WR-TIMEZONE:Europe/Paris
BEGIN:VEVENT
UID:https://safe.gironde.demosphere.net/rv/16580
DTSTAMP:20260329T063000Z
DESCRIPTION:plus d'infos sur : https://safe.gironde.demosphere.net/rv/16580
DTSTART:20260329T063000Z
DTEND:20260329T073000Z
LOCATION:Libourne\, \nPlace Abel Surchamp \n33500 Libourne
SUMMARY:Semaine Pour les Alternatives aux Pesticides - Stand d'information
URL:https://safe.gironde.demosphere.net/rv/16580
END:VEVENT
END:VCALENDAR
