BEGIN:VCALENDAR
VERSION:2.0
PRODID:-//demosphere.net//NONSGML kigkonsult.se iCalcreator 2.22.1//
METHOD:REQUEST
X-WR-TIMEZONE:Europe/Paris
BEGIN:VEVENT
UID:https://safe.gironde.demosphere.net/rv/16577
DTSTAMP:20260409T180000Z
DESCRIPTION:plus d'infos sur : https://safe.gironde.demosphere.net/rv/16577
DTSTART:20260409T180000Z
DTEND:20260409T190000Z
LOCATION:Bègles\, \nCinéma La Lanterne \n151 boulevard Albert 1er \n33130 B
 ègles
SUMMARY:Ciné-Débat 'Rue Malaga' avec le CnAV
URL:https://safe.gironde.demosphere.net/rv/16577
END:VEVENT
END:VCALENDAR
