BEGIN:VCALENDAR
VERSION:2.0
PRODID:-//demosphere.net//NONSGML kigkonsult.se iCalcreator 2.22.1//
METHOD:REQUEST
X-WR-TIMEZONE:Europe/Paris
BEGIN:VEVENT
UID:https://safe.gironde.demosphere.net/rv/16575
DTSTAMP:20260402T181500Z
DESCRIPTION:plus d'infos sur : https://safe.gironde.demosphere.net/rv/16575
DTSTART:20260402T181500Z
DTEND:20260402T191500Z
LOCATION:Bègles\, \nCinéma La Lanterne \n151 boulevard Albert 1er \n33130 B
 ègles
SUMMARY:Projection/Débat - Documentaire : 'Utopie Zéro Chômeur'
URL:https://safe.gironde.demosphere.net/rv/16575
END:VEVENT
END:VCALENDAR
