BEGIN:VCALENDAR
VERSION:2.0
PRODID:-//demosphere.net//NONSGML kigkonsult.se iCalcreator 2.22.1//
METHOD:REQUEST
X-WR-TIMEZONE:Europe/Paris
BEGIN:VEVENT
UID:https://safe.gironde.demosphere.net/rv/16574
DTSTAMP:20260403T180000Z
DESCRIPTION:plus d'infos sur : https://safe.gironde.demosphere.net/rv/16574
DTSTART:20260403T180000Z
DTEND:20260403T190000Z
LOCATION:Bègles\, \nCinéma La Lanterne \n151 boulevard Albert 1er \n33130 B
 ègles
SUMMARY:Projection - Documentaire 'Histoire populaire des Etats-Unis'
URL:https://safe.gironde.demosphere.net/rv/16574
END:VEVENT
END:VCALENDAR
