BEGIN:VCALENDAR
VERSION:2.0
PRODID:-//demosphere.net//NONSGML kigkonsult.se iCalcreator 2.22.1//
METHOD:REQUEST
X-WR-TIMEZONE:Europe/Paris
BEGIN:VEVENT
UID:https://safe.gironde.demosphere.net/rv/16570
DTSTAMP:20260328T130000Z
DESCRIPTION:plus d'infos sur : https://safe.gironde.demosphere.net/rv/16570
DTSTART:20260328T130000Z
DTEND:20260328T140000Z
LOCATION:Bordeaux\, \nPlace de La Bourse \n33000 Bordeaux
SUMMARY:Manifestation de soutien à la Palestine
URL:https://safe.gironde.demosphere.net/rv/16570
END:VEVENT
END:VCALENDAR
