BEGIN:VCALENDAR
VERSION:2.0
PRODID:-//demosphere.net//NONSGML kigkonsult.se iCalcreator 2.22.1//
METHOD:REQUEST
X-WR-TIMEZONE:Europe/Paris
BEGIN:VEVENT
UID:https://safe.gironde.demosphere.net/rv/16548
DTSTAMP:20260328T123000Z
DESCRIPTION:plus d'infos sur : https://safe.gironde.demosphere.net/rv/16548
DTSTART:20260328T123000Z
DTEND:20260328T133000Z
LOCATION:Bordeaux\, \nMarché des Douves \n4 rue des Douves \n33800 Bordeaux
SUMMARY:Printemps décolonial - Film-débat\, migration et colonialité\, de T
 hierno Souleymane Diallo
URL:https://safe.gironde.demosphere.net/rv/16548
END:VEVENT
END:VCALENDAR
