BEGIN:VCALENDAR
VERSION:2.0
PRODID:-//demosphere.net//NONSGML kigkonsult.se iCalcreator 2.22.1//
METHOD:REQUEST
X-WR-TIMEZONE:Europe/Paris
BEGIN:VEVENT
UID:https://safe.gironde.demosphere.net/rv/16547
DTSTAMP:20260328T123000Z
DESCRIPTION:plus d'infos sur : https://safe.gironde.demosphere.net/rv/16547
DTSTART:20260328T123000Z
DTEND:20260328T133000Z
LOCATION:Bordeaux\, \nMarché des Douves \n4 rue des Douves \n33800 Bordeaux
SUMMARY:Printemps décolonial - Rencontre-débat : 'Cachez cette colonialité 
 que je ne saurais voir...'
URL:https://safe.gironde.demosphere.net/rv/16547
END:VEVENT
END:VCALENDAR
