BEGIN:VCALENDAR
VERSION:2.0
PRODID:-//demosphere.net//NONSGML kigkonsult.se iCalcreator 2.22.1//
METHOD:REQUEST
X-WR-TIMEZONE:Europe/Paris
BEGIN:VEVENT
UID:https://safe.gironde.demosphere.net/rv/16545
DTSTAMP:20260328T100000Z
DESCRIPTION:plus d'infos sur : https://safe.gironde.demosphere.net/rv/16545
DTSTART:20260328T100000Z
DTEND:20260328T110000Z
LOCATION:Bordeaux\, \nMarché des Douves \n4 rue des Douves \n33800 Bordeaux
SUMMARY:Printemps décolonial - Racisme et néocolonialisme français\, focus 
 sur Kanaky
URL:https://safe.gironde.demosphere.net/rv/16545
END:VEVENT
END:VCALENDAR
