BEGIN:VCALENDAR
VERSION:2.0
PRODID:-//demosphere.net//NONSGML kigkonsult.se iCalcreator 2.22.1//
METHOD:REQUEST
X-WR-TIMEZONE:Europe/Paris
BEGIN:VEVENT
UID:https://safe.gironde.demosphere.net/rv/16542
DTSTAMP:20260327T190000Z
DESCRIPTION:plus d'infos sur : https://safe.gironde.demosphere.net/rv/16542
DTSTART:20260327T190000Z
DTEND:20260327T200000Z
LOCATION:Bordeaux\, \nMarché des Douves \n4 rue des Douves \n33800 Bordeaux
SUMMARY:Printemps décolonial - Conférence-débat 'Déboulonnons Bugeaud !'
URL:https://safe.gironde.demosphere.net/rv/16542
END:VEVENT
END:VCALENDAR
