BEGIN:VCALENDAR
VERSION:2.0
PRODID:-//demosphere.net//NONSGML kigkonsult.se iCalcreator 2.22.1//
METHOD:REQUEST
X-WR-TIMEZONE:Europe/Paris
BEGIN:VEVENT
UID:https://safe.gironde.demosphere.net/rv/16541
DTSTAMP:20260327T170000Z
DESCRIPTION:plus d'infos sur : https://safe.gironde.demosphere.net/rv/16541
DTSTART:20260327T170000Z
DTEND:20260327T180000Z
LOCATION:Bordeaux\, \nMarché des Douves \n4 rue des Douves \n33800 Bordeaux
SUMMARY:Printemps décolonial - Projection court-métrage et débat sur les pl
 aques de rues à Bègles
URL:https://safe.gironde.demosphere.net/rv/16541
END:VEVENT
END:VCALENDAR
