BEGIN:VCALENDAR
VERSION:2.0
PRODID:-//demosphere.net//NONSGML kigkonsult.se iCalcreator 2.22.1//
METHOD:REQUEST
X-WR-TIMEZONE:Europe/Paris
BEGIN:VEVENT
UID:https://safe.gironde.demosphere.net/rv/16540
DTSTAMP:20260327T160000Z
DESCRIPTION:plus d'infos sur : https://safe.gironde.demosphere.net/rv/16540
DTSTART:20260327T160000Z
DTEND:20260327T170000Z
LOCATION:Bordeaux\, \nMarché des Douves \n4 rue des Douves \n33800 Bordeaux
SUMMARY:Printemps décolonial - Rencontre : la collection des guides de vill
 es coloniales
URL:https://safe.gironde.demosphere.net/rv/16540
END:VEVENT
END:VCALENDAR
