BEGIN:VCALENDAR
VERSION:2.0
PRODID:-//demosphere.net//NONSGML kigkonsult.se iCalcreator 2.22.1//
METHOD:REQUEST
X-WR-TIMEZONE:Europe/Paris
BEGIN:VEVENT
UID:https://safe.gironde.demosphere.net/rv/16537
DTSTAMP:20260326T190000Z
DESCRIPTION:plus d'infos sur : https://safe.gironde.demosphere.net/rv/16537
DTSTART:20260326T190000Z
DTEND:20260326T200000Z
LOCATION:Bordeaux\, \nBien Public \n68 quai Deschamps \n33100 Bordeaux
SUMMARY:Printemps décolonial - Concert Papayera Tradicional
URL:https://safe.gironde.demosphere.net/rv/16537
END:VEVENT
END:VCALENDAR
