BEGIN:VCALENDAR
VERSION:2.0
PRODID:-//demosphere.net//NONSGML kigkonsult.se iCalcreator 2.22.1//
METHOD:REQUEST
X-WR-TIMEZONE:Europe/Paris
BEGIN:VEVENT
UID:https://safe.gironde.demosphere.net/rv/16534
DTSTAMP:20260325T190000Z
DESCRIPTION:plus d'infos sur : https://safe.gironde.demosphere.net/rv/16534
DTSTART:20260325T190000Z
DTEND:20260325T200000Z
LOCATION:Bordeaux\, \nMarché des Douves \n4 rue des Douves \n33800 Bordeaux
SUMMARY:Printemps décolonial - Rencontre-débat avec Salah Hammouri : coloni
 alité en Palestine
URL:https://safe.gironde.demosphere.net/rv/16534
END:VEVENT
END:VCALENDAR
