BEGIN:VCALENDAR
VERSION:2.0
PRODID:-//demosphere.net//NONSGML kigkonsult.se iCalcreator 2.22.1//
METHOD:REQUEST
X-WR-TIMEZONE:Europe/Paris
BEGIN:VEVENT
UID:https://safe.gironde.demosphere.net/rv/16533
DTSTAMP:20260325T170000Z
DESCRIPTION:plus d'infos sur : https://safe.gironde.demosphere.net/rv/16533
DTSTART:20260325T170000Z
DTEND:20260325T180000Z
LOCATION:Bordeaux\, \nMarché des Douves \n4 rue des Douves \n33800 Bordeaux
SUMMARY:Printemps décolonial - Projection de courts métrages documentaires
URL:https://safe.gironde.demosphere.net/rv/16533
END:VEVENT
END:VCALENDAR
