BEGIN:VCALENDAR
VERSION:2.0
PRODID:-//demosphere.net//NONSGML kigkonsult.se iCalcreator 2.22.1//
METHOD:REQUEST
X-WR-TIMEZONE:Europe/Paris
BEGIN:VEVENT
UID:https://safe.gironde.demosphere.net/rv/16530
DTSTAMP:20260325T143000Z
DESCRIPTION:plus d'infos sur : https://safe.gironde.demosphere.net/rv/16530
DTSTART:20260325T143000Z
DTEND:20260325T153000Z
LOCATION:Bordeaux\, \nMarché des Douves \n4 rue des Douves \n33800 Bordeaux
SUMMARY:Printemps décolonial - Lecture pour enfants (7-12 ans) autour de l'
 esclavage\, le racisme [...]
URL:https://safe.gironde.demosphere.net/rv/16530
END:VEVENT
END:VCALENDAR
