BEGIN:VCALENDAR
VERSION:2.0
PRODID:-//demosphere.net//NONSGML kigkonsult.se iCalcreator 2.22.1//
METHOD:REQUEST
X-WR-TIMEZONE:Europe/Paris
BEGIN:VEVENT
UID:https://safe.gironde.demosphere.net/rv/16528
DTSTAMP:20260325T110000Z
DESCRIPTION:plus d'infos sur : https://safe.gironde.demosphere.net/rv/16528
DTSTART:20260325T110000Z
DTEND:20260325T120000Z
LOCATION:Bordeaux\, \nMarché des Douves \n4 rue des Douves \n33800 Bordeaux
SUMMARY:Printemps décolonial - Émission radio en direct\, La clé des ondes\
 , radio douves
URL:https://safe.gironde.demosphere.net/rv/16528
END:VEVENT
END:VCALENDAR
