BEGIN:VCALENDAR
VERSION:2.0
PRODID:-//demosphere.net//NONSGML kigkonsult.se iCalcreator 2.22.1//
METHOD:REQUEST
X-WR-TIMEZONE:Europe/Paris
BEGIN:VEVENT
UID:https://safe.gironde.demosphere.net/rv/16445
DTSTAMP:20260226T190000Z
DESCRIPTION:plus d'infos sur : https://safe.gironde.demosphere.net/rv/16445
DTSTART:20260226T190000Z
DTEND:20260226T200000Z
LOCATION:Bordeaux\, \nCinéma Utopia \n5 Place Camille Jullian \n33000 Borde
 aux
SUMMARY:Ciné+discussion - 'Soulèvements' de Thomas Lacoste
URL:https://safe.gironde.demosphere.net/rv/16445
END:VEVENT
END:VCALENDAR
