BEGIN:VCALENDAR
VERSION:2.0
PRODID:-//demosphere.net//NONSGML kigkonsult.se iCalcreator 2.22.1//
METHOD:REQUEST
X-WR-TIMEZONE:Europe/Paris
BEGIN:VEVENT
UID:https://safe.gironde.demosphere.net/rv/16435
DTSTAMP:20260228T180000Z
DESCRIPTION:plus d'infos sur : https://safe.gironde.demosphere.net/rv/16435
DTSTART:20260228T180000Z
DTEND:20260228T190000Z
LOCATION:Bordeaux\, \nAthénée Libertaire \n7 rue du Muguet \n33000 Bordeaux
SUMMARY:Cinéclub antiraciste - Lucioles de Dalila Kadri
URL:https://safe.gironde.demosphere.net/rv/16435
END:VEVENT
END:VCALENDAR
