BEGIN:VCALENDAR
VERSION:2.0
PRODID:-//demosphere.net//NONSGML kigkonsult.se iCalcreator 2.22.1//
METHOD:REQUEST
X-WR-TIMEZONE:Europe/Paris
BEGIN:VEVENT
UID:https://safe.gironde.demosphere.net/rv/16421
DTSTAMP:20260215T120000Z
DESCRIPTION:plus d'infos sur : https://safe.gironde.demosphere.net/rv/16421
DTSTART:20260215T120000Z
DTEND:20260215T130000Z
LOCATION:Bordeaux\, \nPlace de La Bourse \n33000 Bordeaux
SUMMARY:Rassemblement - Liberté pour ÖCALAN\, statut pour le ROJAVA
URL:https://safe.gironde.demosphere.net/rv/16421
END:VEVENT
END:VCALENDAR
