BEGIN:VCALENDAR
VERSION:2.0
PRODID:-//demosphere.net//NONSGML kigkonsult.se iCalcreator 2.22.1//
METHOD:REQUEST
X-WR-TIMEZONE:Europe/Paris
BEGIN:VEVENT
UID:https://safe.gironde.demosphere.net/rv/16166
DTSTAMP:20251107T170000Z
DESCRIPTION:plus d'infos sur : https://safe.gironde.demosphere.net/rv/16166
DTSTART:20251107T170000Z
DTEND:20251107T180000Z
LOCATION:Bordeaux\, \nRécup'r \n206 rue Carles Vernet \n33000 Bordeaux
SUMMARY:Apéro-voyage Récits et échanges autour des voyages à vélo
URL:https://safe.gironde.demosphere.net/rv/16166
END:VEVENT
END:VCALENDAR
