BEGIN:VCALENDAR
VERSION:2.0
PRODID:-//demosphere.net//NONSGML kigkonsult.se iCalcreator 2.22.1//
METHOD:REQUEST
X-WR-TIMEZONE:Europe/Paris
BEGIN:VEVENT
UID:https://safe.gironde.demosphere.net/rv/16102
DTSTAMP:20251018T080000Z
DESCRIPTION:plus d'infos sur : https://safe.gironde.demosphere.net/rv/16102
DTSTART:20251018T080000Z
DTEND:20251018T090000Z
LOCATION:Bordeaux\, \nRécup'r \n206 rue Carles Vernet \n33000 Bordeaux
SUMMARY:Fresque des nouveaux récits - Inventons des futurs souhaitables !
URL:https://safe.gironde.demosphere.net/rv/16102
END:VEVENT
END:VCALENDAR
