BEGIN:VCALENDAR
VERSION:2.0
PRODID:-//demosphere.net//NONSGML kigkonsult.se iCalcreator 2.22.1//
METHOD:REQUEST
X-WR-TIMEZONE:Europe/Paris
BEGIN:VEVENT
UID:https://safe.gironde.demosphere.net/rv/15923
DTSTAMP:20250920T120000Z
DESCRIPTION:plus d'infos sur : https://safe.gironde.demosphere.net/rv/15923
DTSTART:20250920T120000Z
DTEND:20250920T130000Z
LOCATION:Bègles\, \nLe Radis Noir \n37 bis rue Pauly \n33130 Bègles
SUMMARY:Repair Café à Bègles
URL:https://safe.gironde.demosphere.net/rv/15923
END:VEVENT
END:VCALENDAR
