BEGIN:VCALENDAR
VERSION:2.0
PRODID:-//demosphere.net//NONSGML kigkonsult.se iCalcreator 2.22.1//
METHOD:REQUEST
X-WR-TIMEZONE:Europe/Paris
BEGIN:VEVENT
UID:https://safe.gironde.demosphere.net/rv/15361
DTSTAMP:20250305T173000Z
DESCRIPTION:plus d'infos sur : https://safe.gironde.demosphere.net/rv/15361
DTSTART:20250305T173000Z
DTEND:20250305T183000Z
LOCATION:Bordeaux\, \nRécup'r \n206 rue Carles Vernet \n33000 Bordeaux
SUMMARY:Répétition de la fanfare de luttes
URL:https://safe.gironde.demosphere.net/rv/15361
END:VEVENT
END:VCALENDAR
