BEGIN:VCALENDAR
VERSION:2.0
PRODID:-//demosphere.net//NONSGML kigkonsult.se iCalcreator 2.22.1//
METHOD:REQUEST
X-WR-TIMEZONE:Europe/Paris
BEGIN:VEVENT
UID:https://safe.gironde.demosphere.net/rv/1513
DTSTAMP:20120317T150000Z
DESCRIPTION:plus d'infos sur : https://safe.gironde.demosphere.net/rv/1513
DTSTART:20120317T150000Z
DTEND:20120317T160000Z
LOCATION:Bordeaux\, \nAthénée Libertaire \n7 rue du Muguet \n33000 Bordeaux
SUMMARY:Journée Anti fasciste
URL:https://safe.gironde.demosphere.net/rv/1513
END:VEVENT
END:VCALENDAR
