BEGIN:VCALENDAR
VERSION:2.0
PRODID:-//demosphere.net//NONSGML kigkonsult.se iCalcreator 2.22.1//
METHOD:REQUEST
X-WR-TIMEZONE:Europe/Paris
BEGIN:VEVENT
UID:https://safe.gironde.demosphere.net/rv/15106
DTSTAMP:20250108T180000Z
DESCRIPTION:plus d'infos sur : https://safe.gironde.demosphere.net/rv/15106
DTSTART:20250108T180000Z
DTEND:20250108T190000Z
LOCATION:Bordeaux\, \nRécup'r \n206 rue Carles Vernet \n33000 Bordeaux
SUMMARY:Répétition de la fanfare de lutte
URL:https://safe.gironde.demosphere.net/rv/15106
END:VEVENT
END:VCALENDAR
