BEGIN:VCALENDAR
VERSION:2.0
PRODID:-//demosphere.net//NONSGML kigkonsult.se iCalcreator 2.22.1//
METHOD:REQUEST
X-WR-TIMEZONE:Europe/Paris
BEGIN:VEVENT
UID:https://safe.gironde.demosphere.net/rv/14869
DTSTAMP:20241010T160000Z
DESCRIPTION:plus d'infos sur : https://safe.gironde.demosphere.net/rv/14869
DTSTART:20241010T160000Z
DTEND:20241010T170000Z
LOCATION:Bordeaux\, \nRécup'r \n206 rue Carles Vernet \n33000 Bordeaux
SUMMARY:Récup'r - Apéro-voyage
URL:https://safe.gironde.demosphere.net/rv/14869
END:VEVENT
END:VCALENDAR
