BEGIN:VCALENDAR
VERSION:2.0
PRODID:-//demosphere.net//NONSGML kigkonsult.se iCalcreator 2.22.1//
METHOD:REQUEST
X-WR-TIMEZONE:Europe/Paris
BEGIN:VEVENT
UID:https://safe.gironde.demosphere.net/rv/14730
DTSTAMP:20240921T173000Z
DESCRIPTION:plus d'infos sur : https://safe.gironde.demosphere.net/rv/14730
DTSTART:20240921T173000Z
DTEND:20240921T183000Z
LOCATION:Le Tourne\, \nChantiers Tramasset \n20 Esplanade Josselin \n33550 
 Le Tourne
SUMMARY:Journée Européenne du Patrimoine - Découvrez un chantier naval du X
 IXème siècle
URL:https://safe.gironde.demosphere.net/rv/14730
END:VEVENT
END:VCALENDAR
