BEGIN:VCALENDAR
VERSION:2.0
PRODID:-//demosphere.net//NONSGML kigkonsult.se iCalcreator 2.22.1//
METHOD:REQUEST
X-WR-TIMEZONE:Europe/Paris
BEGIN:VEVENT
UID:https://safe.gironde.demosphere.net/rv/14720
DTSTAMP:20240824T150000Z
DESCRIPTION:plus d'infos sur : https://safe.gironde.demosphere.net/rv/14720
DTSTART:20240824T150000Z
DTEND:20240824T160000Z
LOCATION:Le Tourne\, \nChantiers Tramasset \n20 Esplanade Josselin \n33550 
 Le Tourne
SUMMARY:Guinguette associative 'L'Etuve' - Concert de La Pompa Swing
URL:https://safe.gironde.demosphere.net/rv/14720
END:VEVENT
END:VCALENDAR
