BEGIN:VCALENDAR
VERSION:2.0
PRODID:-//demosphere.net//NONSGML kigkonsult.se iCalcreator 2.22.1//
METHOD:REQUEST
X-WR-TIMEZONE:Europe/Paris
BEGIN:VEVENT
UID:https://safe.gironde.demosphere.net/rv/14565
DTSTAMP:20240606T080000Z
DESCRIPTION:plus d'infos sur : https://safe.gironde.demosphere.net/rv/14565
DTSTART:20240606T080000Z
DTEND:20240606T090000Z
LOCATION:Bordeaux\, \nRécup'r \n206 rue Carles Vernet \n33000 Bordeaux
SUMMARY:Ateliers - Bricolages\, rencontres\, aménagements\, cuisine à Récup
 'R
URL:https://safe.gironde.demosphere.net/rv/14565
END:VEVENT
END:VCALENDAR
