BEGIN:VCALENDAR
VERSION:2.0
PRODID:-//demosphere.net//NONSGML kigkonsult.se iCalcreator 2.22.1//
METHOD:REQUEST
X-WR-TIMEZONE:Europe/Paris
BEGIN:VEVENT
UID:https://safe.gironde.demosphere.net/rv/14412
DTSTAMP:20240608T080000Z
DESCRIPTION:plus d'infos sur : https://safe.gironde.demosphere.net/rv/14412
DTSTART:20240608T080000Z
DTEND:20240608T090000Z
LOCATION:Bordeaux\, \nRécup'r \n206 rue Carles Vernet \n33000 Bordeaux
SUMMARY:Le Recycl'Hop - Fête annuelle de l'association Récup'r
URL:https://safe.gironde.demosphere.net/rv/14412
END:VEVENT
END:VCALENDAR
