BEGIN:VCALENDAR
VERSION:2.0
PRODID:-//demosphere.net//NONSGML kigkonsult.se iCalcreator 2.22.1//
METHOD:REQUEST
X-WR-TIMEZONE:Europe/Paris
BEGIN:VEVENT
UID:https://safe.gironde.demosphere.net/rv/14127
DTSTAMP:20240321T173000Z
DESCRIPTION:plus d'infos sur : https://safe.gironde.demosphere.net/rv/14127
DTSTART:20240321T173000Z
DTEND:20240321T183000Z
LOCATION:Bordeaux\, \nMarché des Douves \n4 rue des Douves \n33800 Bordeaux
SUMMARY:Habitat coopératif - H'Nord Premier accueil
URL:https://safe.gironde.demosphere.net/rv/14127
END:VEVENT
END:VCALENDAR
