BEGIN:VCALENDAR
VERSION:2.0
PRODID:-//demosphere.net//NONSGML kigkonsult.se iCalcreator 2.22.1//
METHOD:REQUEST
X-WR-TIMEZONE:Europe/Paris
BEGIN:VEVENT
UID:https://safe.gironde.demosphere.net/rv/14013
DTSTAMP:20240207T173000Z
DESCRIPTION:plus d'infos sur : https://safe.gironde.demosphere.net/rv/14013
DTSTART:20240207T173000Z
DTEND:20240207T183000Z
LOCATION:Bordeaux\, \nRécup'r \n206 rue Carles Vernet \n33000 Bordeaux
SUMMARY:Présentation-échanges - 'L'Atelier des miracles\, les activités cac
 hées...'
URL:https://safe.gironde.demosphere.net/rv/14013
END:VEVENT
END:VCALENDAR
