BEGIN:VCALENDAR
VERSION:2.0
PRODID:-//demosphere.net//NONSGML kigkonsult.se iCalcreator 2.22.1//
METHOD:REQUEST
X-WR-TIMEZONE:Europe/Paris
BEGIN:VEVENT
UID:https://safe.gironde.demosphere.net/rv/13840
DTSTAMP:20231123T130000Z
DESCRIPTION:plus d'infos sur : https://safe.gironde.demosphere.net/rv/13840
DTSTART:20231123T130000Z
DTEND:20231123T140000Z
LOCATION:Bordeaux\, \nRécup'r \n206 rue Carles Vernet \n33000 Bordeaux
SUMMARY:Porte-ouverte et démonstration de tissage
URL:https://safe.gironde.demosphere.net/rv/13840
END:VEVENT
END:VCALENDAR
