BEGIN:VCALENDAR
VERSION:2.0
PRODID:-//demosphere.net//NONSGML kigkonsult.se iCalcreator 2.22.1//
METHOD:REQUEST
X-WR-TIMEZONE:Europe/Paris
BEGIN:VEVENT
UID:https://safe.gironde.demosphere.net/rv/13762
DTSTAMP:20231125T100000Z
DESCRIPTION:plus d'infos sur : https://safe.gironde.demosphere.net/rv/13762
DTSTART:20231125T100000Z
DTEND:20231125T110000Z
LOCATION:Bordeaux\, \nRécup'r \n206 rue Carles Vernet \n33000 Bordeaux
SUMMARY:Atelier tissage - Dégomme la navette
URL:https://safe.gironde.demosphere.net/rv/13762
END:VEVENT
END:VCALENDAR
