BEGIN:VCALENDAR
VERSION:2.0
PRODID:-//demosphere.net//NONSGML kigkonsult.se iCalcreator 2.22.1//
METHOD:REQUEST
X-WR-TIMEZONE:Europe/Paris
BEGIN:VEVENT
UID:https://safe.gironde.demosphere.net/rv/13622
DTSTAMP:20230927T163000Z
DESCRIPTION:plus d'infos sur : https://safe.gironde.demosphere.net/rv/13622
DTSTART:20230927T163000Z
DTEND:20230927T173000Z
LOCATION:Bordeaux\, \nRécup'r \n206 rue Carles Vernet \n33000 Bordeaux
SUMMARY:Spectacle fantastique de Biciman
URL:https://safe.gironde.demosphere.net/rv/13622
END:VEVENT
END:VCALENDAR
