BEGIN:VCALENDAR
VERSION:2.0
PRODID:-//demosphere.net//NONSGML kigkonsult.se iCalcreator 2.22.1//
METHOD:REQUEST
X-WR-TIMEZONE:Europe/Paris
BEGIN:VEVENT
UID:https://safe.gironde.demosphere.net/rv/13594
DTSTAMP:20230922T170000Z
DESCRIPTION:plus d'infos sur : https://safe.gironde.demosphere.net/rv/13594
DTSTART:20230922T170000Z
DTEND:20230922T180000Z
LOCATION:Bordeaux\, \nAthénée Libertaire \n7 rue du Muguet \n33000 Bordeaux
SUMMARY:LaDIY*Fest Bordeaux #2 - Festival Anarka-Féministe
URL:https://safe.gironde.demosphere.net/rv/13594
END:VEVENT
END:VCALENDAR
