BEGIN:VCALENDAR
VERSION:2.0
PRODID:-//demosphere.net//NONSGML kigkonsult.se iCalcreator 2.22.1//
METHOD:REQUEST
X-WR-TIMEZONE:Europe/Paris
BEGIN:VEVENT
UID:https://safe.gironde.demosphere.net/rv/13584
DTSTAMP:20230919T183000Z
DESCRIPTION:plus d'infos sur : https://safe.gironde.demosphere.net/rv/13584
DTSTART:20230919T183000Z
DTEND:20230919T193000Z
LOCATION:Bordeaux\, \nCinéma Utopia \n5 Place Camille Jullian \n33000 Borde
 aux
SUMMARY:Projection-Débat - Que devient Julien Assange\, symbole de la liber
 té de la presse ?
URL:https://safe.gironde.demosphere.net/rv/13584
END:VEVENT
END:VCALENDAR
