BEGIN:VCALENDAR
VERSION:2.0
PRODID:-//demosphere.net//NONSGML kigkonsult.se iCalcreator 2.22.1//
METHOD:REQUEST
X-WR-TIMEZONE:Europe/Paris
BEGIN:VEVENT
UID:https://safe.gironde.demosphere.net/rv/13420
DTSTAMP:20230721T153000Z
DESCRIPTION:plus d'infos sur : https://safe.gironde.demosphere.net/rv/13420
DTSTART:20230721T153000Z
DTEND:20230721T163000Z
LOCATION:Bordeaux\, \nRécup'r \n206 rue Carles Vernet \n33000 Bordeaux
SUMMARY:Projection - La Sociale de Gilles Perret
URL:https://safe.gironde.demosphere.net/rv/13420
END:VEVENT
END:VCALENDAR
