BEGIN:VCALENDAR
VERSION:2.0
PRODID:-//demosphere.net//NONSGML kigkonsult.se iCalcreator 2.22.1//
METHOD:REQUEST
X-WR-TIMEZONE:Europe/Paris
BEGIN:VEVENT
UID:https://safe.gironde.demosphere.net/rv/13236
DTSTAMP:20230523T150000Z
DESCRIPTION:plus d'infos sur : https://safe.gironde.demosphere.net/rv/13236
DTSTART:20230523T150000Z
DTEND:20230523T160000Z
LOCATION:Bordeaux\, \nAthénée Libertaire \n7 rue du Muguet \n33000 Bordeaux
SUMMARY:Arpentage - 'Que fait la police ?'de Paul Rocher
URL:https://safe.gironde.demosphere.net/rv/13236
END:VEVENT
END:VCALENDAR
